BEGIN:VCALENDAR
VERSION:2.0
PRODID:-//Indy Health District - ECPv6.15.18//NONSGML v1.0//EN
CALSCALE:GREGORIAN
METHOD:PUBLISH
X-ORIGINAL-URL:https://indyhealthdistrict.org
X-WR-CALDESC:Events for Indy Health District
REFRESH-INTERVAL;VALUE=DURATION:PT1H
X-Robots-Tag:noindex
X-PUBLISHED-TTL:PT1H
BEGIN:VTIMEZONE
TZID:America/Indiana/Indianapolis
BEGIN:DAYLIGHT
TZOFFSETFROM:-0500
TZOFFSETTO:-0400
TZNAME:EDT
DTSTART:20250309T070000
END:DAYLIGHT
BEGIN:STANDARD
TZOFFSETFROM:-0400
TZOFFSETTO:-0500
TZNAME:EST
DTSTART:20251102T060000
END:STANDARD
BEGIN:DAYLIGHT
TZOFFSETFROM:-0500
TZOFFSETTO:-0400
TZNAME:EDT
DTSTART:20260308T070000
END:DAYLIGHT
BEGIN:STANDARD
TZOFFSETFROM:-0400
TZOFFSETTO:-0500
TZNAME:EST
DTSTART:20261101T060000
END:STANDARD
BEGIN:DAYLIGHT
TZOFFSETFROM:-0500
TZOFFSETTO:-0400
TZNAME:EDT
DTSTART:20270314T070000
END:DAYLIGHT
BEGIN:STANDARD
TZOFFSETFROM:-0400
TZOFFSETTO:-0500
TZNAME:EST
DTSTART:20271107T060000
END:STANDARD
END:VTIMEZONE
BEGIN:VEVENT
DTSTART;TZID=America/Indiana/Indianapolis:20260511T190000
DTEND;TZID=America/Indiana/Indianapolis:20260511T200000
DTSTAMP:20260421T092545
CREATED:20260417T020934Z
LAST-MODIFIED:20260417T020934Z
UID:1507-1778526000-1778529600@indyhealthdistrict.org
SUMMARY:Ransom Place Neighborhood Association Meeting
DESCRIPTION:
URL:https://indyhealthdistrict.org/event/ransom-place-neighborhood-association-meeting-2/
LOCATION:IN
CATEGORIES:Neighborhood Association Event
END:VEVENT
BEGIN:VEVENT
DTSTART;TZID=America/Indiana/Indianapolis:20260512T180000
DTEND;TZID=America/Indiana/Indianapolis:20260512T190000
DTSTAMP:20260421T092545
CREATED:20260417T021014Z
LAST-MODIFIED:20260417T133157Z
UID:1508-1778608800-1778612400@indyhealthdistrict.org
SUMMARY:Highland Vicinity Neighborhood Association Meeting
DESCRIPTION:
URL:https://indyhealthdistrict.org/event/highland-vicinity-neighborhood-association-meeting-2/
LOCATION:Our Savior Lutheran Church\, 261 W 25th St\, Indianapolis\, IN\, 46208\, United States
CATEGORIES:Neighborhood Association Event
ORGANIZER;CN="Highland Vicinity Neighborhood Association":MAILTO:hvna46208@gmail.com
END:VEVENT
BEGIN:VEVENT
DTSTART;TZID=America/Indiana/Indianapolis:20260518T181500
DTEND;TZID=America/Indiana/Indianapolis:20260518T191500
DTSTAMP:20260421T092545
CREATED:20260417T021146Z
LAST-MODIFIED:20260417T133101Z
UID:1509-1779128100-1779131700@indyhealthdistrict.org
SUMMARY:Meridian Highland Neighborhood Association Meeting
DESCRIPTION:
URL:https://indyhealthdistrict.org/event/meridian-highland-neighborhood-association-meeting-2/
LOCATION:2150 N Capitol Ave\, 2150 N Capitol Ave\, Indianapolis\, IN\, United States
CATEGORIES:Neighborhood Association Event
ORGANIZER;CN="Meridian Highland Neighborhood Association":MAILTO:: meridian.highland.na@gmail.com
END:VEVENT
BEGIN:VEVENT
DTSTART;TZID=America/Indiana/Indianapolis:20260519T180000
DTEND;TZID=America/Indiana/Indianapolis:20260519T190000
DTSTAMP:20260421T092545
CREATED:20260417T021246Z
LAST-MODIFIED:20260417T021246Z
UID:1510-1779213600-1779217200@indyhealthdistrict.org
SUMMARY:Crown Hill Neighborhood Association Meeting
DESCRIPTION:CAGI 3266 N Meridian 3rd Floor or via Zoom
URL:https://indyhealthdistrict.org/event/crown-hill-neighborhood-association-meeting-2/
LOCATION:CAGI\, 3266 N Meridian St.\, Indianapolis\, IN\, 46208\, United States
CATEGORIES:Neighborhood Association Event
END:VEVENT
BEGIN:VEVENT
DTSTART;TZID=America/Indiana/Indianapolis:20260530T090000
DTEND;TZID=America/Indiana/Indianapolis:20260530T120000
DTSTAMP:20260421T092545
CREATED:20260417T022337Z
LAST-MODIFIED:20260417T022337Z
UID:1518-1780131600-1780142400@indyhealthdistrict.org
SUMMARY:Ransom Place Neighborhood Clean Up
DESCRIPTION:
URL:https://indyhealthdistrict.org/event/ransom-place-neighborhood-clean-up-2/
LOCATION:9th St. & Camp St.\, 909 Camp St\, Indianapolis\, Indiana\, 46202\, United States
CATEGORIES:Neighborhood Association Event
END:VEVENT
END:VCALENDAR