BEGIN:VCALENDAR
VERSION:2.0
PRODID:-//Indy Health District - ECPv6.15.18//NONSGML v1.0//EN
CALSCALE:GREGORIAN
METHOD:PUBLISH
X-WR-CALNAME:Indy Health District
X-ORIGINAL-URL:https://indyhealthdistrict.org
X-WR-CALDESC:Events for Indy Health District
REFRESH-INTERVAL;VALUE=DURATION:PT1H
X-Robots-Tag:noindex
X-PUBLISHED-TTL:PT1H
BEGIN:VTIMEZONE
TZID:America/Indiana/Indianapolis
BEGIN:DAYLIGHT
TZOFFSETFROM:-0500
TZOFFSETTO:-0400
TZNAME:EDT
DTSTART:20250309T070000
END:DAYLIGHT
BEGIN:STANDARD
TZOFFSETFROM:-0400
TZOFFSETTO:-0500
TZNAME:EST
DTSTART:20251102T060000
END:STANDARD
BEGIN:DAYLIGHT
TZOFFSETFROM:-0500
TZOFFSETTO:-0400
TZNAME:EDT
DTSTART:20260308T070000
END:DAYLIGHT
BEGIN:STANDARD
TZOFFSETFROM:-0400
TZOFFSETTO:-0500
TZNAME:EST
DTSTART:20261101T060000
END:STANDARD
BEGIN:DAYLIGHT
TZOFFSETFROM:-0500
TZOFFSETTO:-0400
TZNAME:EDT
DTSTART:20270314T070000
END:DAYLIGHT
BEGIN:STANDARD
TZOFFSETFROM:-0400
TZOFFSETTO:-0500
TZNAME:EST
DTSTART:20271107T060000
END:STANDARD
END:VTIMEZONE
BEGIN:VEVENT
DTSTART;TZID=America/Indiana/Indianapolis:20260714T180000
DTEND;TZID=America/Indiana/Indianapolis:20260714T190000
DTSTAMP:20260423T060710
CREATED:20260417T135232Z
LAST-MODIFIED:20260417T135232Z
UID:1535-1784052000-1784055600@indyhealthdistrict.org
SUMMARY:Highland Vicinity Neighborhood Association Meeting
DESCRIPTION:
URL:https://indyhealthdistrict.org/event/highland-vicinity-neighborhood-association-meeting-4/
LOCATION:Our Savior Lutheran Church\, 261 W 25th St\, Indianapolis\, IN\, 46208\, United States
CATEGORIES:Neighborhood Association Event
ORGANIZER;CN="Highland Vicinity Neighborhood Association":MAILTO:hvna46208@gmail.com
END:VEVENT
BEGIN:VEVENT
DTSTART;TZID=America/Indiana/Indianapolis:20260720T181500
DTEND;TZID=America/Indiana/Indianapolis:20260720T191500
DTSTAMP:20260423T060710
CREATED:20260417T135615Z
LAST-MODIFIED:20260417T135615Z
UID:1537-1784571300-1784574900@indyhealthdistrict.org
SUMMARY:Meridian Highland Neighborhood Association Meeting
DESCRIPTION:
URL:https://indyhealthdistrict.org/event/meridian-highland-neighborhood-association-meeting-4/
LOCATION:2150 N Capitol Ave\, 2150 N Capitol Ave\, Indianapolis\, IN\, United States
CATEGORIES:Neighborhood Association Event
ORGANIZER;CN="Meridian Highland Neighborhood Association":MAILTO:: meridian.highland.na@gmail.com
END:VEVENT
BEGIN:VEVENT
DTSTART;TZID=America/Indiana/Indianapolis:20260721T180000
DTEND;TZID=America/Indiana/Indianapolis:20260721T190000
DTSTAMP:20260423T060710
CREATED:20260417T135741Z
LAST-MODIFIED:20260417T135741Z
UID:1538-1784656800-1784660400@indyhealthdistrict.org
SUMMARY:Crown Hill Neighborhood Association Meeting
DESCRIPTION:CAGI 3266 N Meridian 3rd Floor or via Zoom
URL:https://indyhealthdistrict.org/event/crown-hill-neighborhood-association-meeting-4/
LOCATION:CAGI\, 3266 N Meridian St.\, Indianapolis\, IN\, 46208\, United States
CATEGORIES:Neighborhood Association Event
END:VEVENT
BEGIN:VEVENT
DTSTART;TZID=America/Indiana/Indianapolis:20260725T090000
DTEND;TZID=America/Indiana/Indianapolis:20260725T120000
DTSTAMP:20260423T060710
CREATED:20260417T140025Z
LAST-MODIFIED:20260417T140025Z
UID:1543-1784970000-1784980800@indyhealthdistrict.org
SUMMARY:Ransom Place Neighborhood Clean Up
DESCRIPTION:
URL:https://indyhealthdistrict.org/event/ransom-place-neighborhood-clean-up-3/
LOCATION:9th St. & Camp St.\, 909 Camp St\, Indianapolis\, Indiana\, 46202\, United States
CATEGORIES:Neighborhood Association Event
END:VEVENT
END:VCALENDAR