BEGIN:VCALENDAR
VERSION:2.0
PRODID:-//Indy Health District - ECPv6.15.18//NONSGML v1.0//EN
CALSCALE:GREGORIAN
METHOD:PUBLISH
X-WR-CALNAME:Indy Health District
X-ORIGINAL-URL:https://indyhealthdistrict.org
X-WR-CALDESC:Events for Indy Health District
REFRESH-INTERVAL;VALUE=DURATION:PT1H
X-Robots-Tag:noindex
X-PUBLISHED-TTL:PT1H
BEGIN:VTIMEZONE
TZID:America/Indiana/Indianapolis
BEGIN:DAYLIGHT
TZOFFSETFROM:-0500
TZOFFSETTO:-0400
TZNAME:EDT
DTSTART:20250309T070000
END:DAYLIGHT
BEGIN:STANDARD
TZOFFSETFROM:-0400
TZOFFSETTO:-0500
TZNAME:EST
DTSTART:20251102T060000
END:STANDARD
BEGIN:DAYLIGHT
TZOFFSETFROM:-0500
TZOFFSETTO:-0400
TZNAME:EDT
DTSTART:20260308T070000
END:DAYLIGHT
BEGIN:STANDARD
TZOFFSETFROM:-0400
TZOFFSETTO:-0500
TZNAME:EST
DTSTART:20261101T060000
END:STANDARD
BEGIN:DAYLIGHT
TZOFFSETFROM:-0500
TZOFFSETTO:-0400
TZNAME:EDT
DTSTART:20270314T070000
END:DAYLIGHT
BEGIN:STANDARD
TZOFFSETFROM:-0400
TZOFFSETTO:-0500
TZNAME:EST
DTSTART:20271107T060000
END:STANDARD
END:VTIMEZONE
BEGIN:VEVENT
DTSTART;TZID=America/Indiana/Indianapolis:20260714T180000
DTEND;TZID=America/Indiana/Indianapolis:20260714T190000
DTSTAMP:20260421T144201
CREATED:20260417T135232Z
LAST-MODIFIED:20260417T135232Z
UID:1535-1784052000-1784055600@indyhealthdistrict.org
SUMMARY:Highland Vicinity Neighborhood Association Meeting
DESCRIPTION:
URL:https://indyhealthdistrict.org/event/highland-vicinity-neighborhood-association-meeting-4/
LOCATION:Our Savior Lutheran Church\, 261 W 25th St\, Indianapolis\, IN\, 46208\, United States
CATEGORIES:Neighborhood Association Event
ORGANIZER;CN="Highland Vicinity Neighborhood Association":MAILTO:hvna46208@gmail.com
END:VEVENT
BEGIN:VEVENT
DTSTART;TZID=America/Indiana/Indianapolis:20260720T181500
DTEND;TZID=America/Indiana/Indianapolis:20260720T191500
DTSTAMP:20260421T144201
CREATED:20260417T135615Z
LAST-MODIFIED:20260417T135615Z
UID:1537-1784571300-1784574900@indyhealthdistrict.org
SUMMARY:Meridian Highland Neighborhood Association Meeting
DESCRIPTION:
URL:https://indyhealthdistrict.org/event/meridian-highland-neighborhood-association-meeting-4/
LOCATION:2150 N Capitol Ave\, 2150 N Capitol Ave\, Indianapolis\, IN\, United States
CATEGORIES:Neighborhood Association Event
ORGANIZER;CN="Meridian Highland Neighborhood Association":MAILTO:: meridian.highland.na@gmail.com
END:VEVENT
BEGIN:VEVENT
DTSTART;TZID=America/Indiana/Indianapolis:20260721T180000
DTEND;TZID=America/Indiana/Indianapolis:20260721T190000
DTSTAMP:20260421T144201
CREATED:20260417T135741Z
LAST-MODIFIED:20260417T135741Z
UID:1538-1784656800-1784660400@indyhealthdistrict.org
SUMMARY:Crown Hill Neighborhood Association Meeting
DESCRIPTION:CAGI 3266 N Meridian 3rd Floor or via Zoom
URL:https://indyhealthdistrict.org/event/crown-hill-neighborhood-association-meeting-4/
LOCATION:CAGI\, 3266 N Meridian St.\, Indianapolis\, IN\, 46208\, United States
CATEGORIES:Neighborhood Association Event
END:VEVENT
BEGIN:VEVENT
DTSTART;TZID=America/Indiana/Indianapolis:20260725T090000
DTEND;TZID=America/Indiana/Indianapolis:20260725T120000
DTSTAMP:20260421T144201
CREATED:20260417T140025Z
LAST-MODIFIED:20260417T140025Z
UID:1543-1784970000-1784980800@indyhealthdistrict.org
SUMMARY:Ransom Place Neighborhood Clean Up
DESCRIPTION:
URL:https://indyhealthdistrict.org/event/ransom-place-neighborhood-clean-up-3/
LOCATION:9th St. & Camp St.\, 909 Camp St\, Indianapolis\, Indiana\, 46202\, United States
CATEGORIES:Neighborhood Association Event
END:VEVENT
BEGIN:VEVENT
DTSTART;TZID=America/Indiana/Indianapolis:20260811T180000
DTEND;TZID=America/Indiana/Indianapolis:20260811T190000
DTSTAMP:20260421T144201
CREATED:20260417T152157Z
LAST-MODIFIED:20260417T152157Z
UID:1551-1786471200-1786474800@indyhealthdistrict.org
SUMMARY:Highland Vicinity Neighborhood Association Meeting
DESCRIPTION:
URL:https://indyhealthdistrict.org/event/highland-vicinity-neighborhood-association-meeting-5/
LOCATION:Our Savior Lutheran Church\, 261 W 25th St\, Indianapolis\, IN\, 46208\, United States
CATEGORIES:Neighborhood Association Event
ORGANIZER;CN="Highland Vicinity Neighborhood Association":MAILTO:hvna46208@gmail.com
END:VEVENT
BEGIN:VEVENT
DTSTART;TZID=America/Indiana/Indianapolis:20260817T181500
DTEND;TZID=America/Indiana/Indianapolis:20260817T191500
DTSTAMP:20260421T144201
CREATED:20260417T152354Z
LAST-MODIFIED:20260417T152354Z
UID:1553-1786990500-1786994100@indyhealthdistrict.org
SUMMARY:Meridian Highland Neighborhood Association Meeting
DESCRIPTION:
URL:https://indyhealthdistrict.org/event/meridian-highland-neighborhood-association-meeting-5/
LOCATION:2150 N Capitol Ave\, 2150 N Capitol Ave\, Indianapolis\, IN\, United States
CATEGORIES:Neighborhood Association Event
ORGANIZER;CN="Meridian Highland Neighborhood Association":MAILTO:: meridian.highland.na@gmail.com
END:VEVENT
BEGIN:VEVENT
DTSTART;TZID=America/Indiana/Indianapolis:20260908T180000
DTEND;TZID=America/Indiana/Indianapolis:20260908T190000
DTSTAMP:20260421T144201
CREATED:20260417T155046Z
LAST-MODIFIED:20260417T155046Z
UID:1562-1788890400-1788894000@indyhealthdistrict.org
SUMMARY:Highland Vicinity Neighborhood Association Meeting
DESCRIPTION:
URL:https://indyhealthdistrict.org/event/highland-vicinity-neighborhood-association-meeting-6/
LOCATION:Our Savior Lutheran Church\, 261 W 25th St\, Indianapolis\, IN\, 46208\, United States
CATEGORIES:Neighborhood Association Event
ORGANIZER;CN="Highland Vicinity Neighborhood Association":MAILTO:hvna46208@gmail.com
END:VEVENT
BEGIN:VEVENT
DTSTART;TZID=America/Indiana/Indianapolis:20260914T190000
DTEND;TZID=America/Indiana/Indianapolis:20260914T200000
DTSTAMP:20260421T144201
CREATED:20260417T155232Z
LAST-MODIFIED:20260417T155232Z
UID:1564-1789412400-1789416000@indyhealthdistrict.org
SUMMARY:Ransom Place Neighborhood Association Meeting
DESCRIPTION:
URL:https://indyhealthdistrict.org/event/ransom-place-neighborhood-association-meeting-4/
LOCATION:IN
CATEGORIES:Neighborhood Association Event
END:VEVENT
BEGIN:VEVENT
DTSTART;TZID=America/Indiana/Indianapolis:20260915T180000
DTEND;TZID=America/Indiana/Indianapolis:20260915T190000
DTSTAMP:20260421T144201
CREATED:20260417T155318Z
LAST-MODIFIED:20260417T155318Z
UID:1565-1789495200-1789498800@indyhealthdistrict.org
SUMMARY:Crown Hill Neighborhood Association Meeting
DESCRIPTION:CAGI 3266 N Meridian 3rd Floor or via Zoom
URL:https://indyhealthdistrict.org/event/crown-hill-neighborhood-association-meeting-5/
LOCATION:CAGI\, 3266 N Meridian St.\, Indianapolis\, IN\, 46208\, United States
CATEGORIES:Neighborhood Association Event
END:VEVENT
BEGIN:VEVENT
DTSTART;TZID=America/Indiana/Indianapolis:20260921T181500
DTEND;TZID=America/Indiana/Indianapolis:20260921T191500
DTSTAMP:20260421T144201
CREATED:20260417T155701Z
LAST-MODIFIED:20260417T155701Z
UID:1567-1790014500-1790018100@indyhealthdistrict.org
SUMMARY:Meridian Highland Neighborhood Association Meeting
DESCRIPTION:
URL:https://indyhealthdistrict.org/event/meridian-highland-neighborhood-association-meeting-6/
LOCATION:2150 N Capitol Ave\, 2150 N Capitol Ave\, Indianapolis\, IN\, United States
CATEGORIES:Neighborhood Association Event
ORGANIZER;CN="Meridian Highland Neighborhood Association":MAILTO:: meridian.highland.na@gmail.com
END:VEVENT
BEGIN:VEVENT
DTSTART;TZID=America/Indiana/Indianapolis:20260926T090000
DTEND;TZID=America/Indiana/Indianapolis:20260926T120000
DTSTAMP:20260421T144201
CREATED:20260417T160133Z
LAST-MODIFIED:20260417T160133Z
UID:1570-1790413200-1790424000@indyhealthdistrict.org
SUMMARY:Ransom Place Neighborhood Clean Up
DESCRIPTION:
URL:https://indyhealthdistrict.org/event/ransom-place-neighborhood-clean-up-4/
LOCATION:9th St. & Camp St.\, 909 Camp St\, Indianapolis\, Indiana\, 46202\, United States
CATEGORIES:Neighborhood Association Event
END:VEVENT
BEGIN:VEVENT
DTSTART;TZID=America/Indiana/Indianapolis:20261012T190000
DTEND;TZID=America/Indiana/Indianapolis:20261012T200000
DTSTAMP:20260421T144201
CREATED:20260417T160721Z
LAST-MODIFIED:20260417T160721Z
UID:1575-1791831600-1791835200@indyhealthdistrict.org
SUMMARY:Ransom Place Neighborhood Association Meeting
DESCRIPTION:
URL:https://indyhealthdistrict.org/event/ransom-place-neighborhood-association-meeting-5/
LOCATION:IN
CATEGORIES:Neighborhood Association Event
END:VEVENT
BEGIN:VEVENT
DTSTART;TZID=America/Indiana/Indianapolis:20261013T180000
DTEND;TZID=America/Indiana/Indianapolis:20261013T190000
DTSTAMP:20260421T144201
CREATED:20260417T160752Z
LAST-MODIFIED:20260417T160752Z
UID:1576-1791914400-1791918000@indyhealthdistrict.org
SUMMARY:Highland Vicinity Neighborhood Association Meeting
DESCRIPTION:
URL:https://indyhealthdistrict.org/event/highland-vicinity-neighborhood-association-meeting-7/
LOCATION:Our Savior Lutheran Church\, 261 W 25th St\, Indianapolis\, IN\, 46208\, United States
CATEGORIES:Neighborhood Association Event
ORGANIZER;CN="Highland Vicinity Neighborhood Association":MAILTO:hvna46208@gmail.com
END:VEVENT
BEGIN:VEVENT
DTSTART;TZID=America/Indiana/Indianapolis:20261019T181500
DTEND;TZID=America/Indiana/Indianapolis:20261019T191500
DTSTAMP:20260421T144201
CREATED:20260417T160845Z
LAST-MODIFIED:20260417T160845Z
UID:1577-1792433700-1792437300@indyhealthdistrict.org
SUMMARY:Meridian Highland Neighborhood Association Meeting
DESCRIPTION:
URL:https://indyhealthdistrict.org/event/meridian-highland-neighborhood-association-meeting-7/
LOCATION:2150 N Capitol Ave\, 2150 N Capitol Ave\, Indianapolis\, IN\, United States
CATEGORIES:Neighborhood Association Event
ORGANIZER;CN="Meridian Highland Neighborhood Association":MAILTO:: meridian.highland.na@gmail.com
END:VEVENT
BEGIN:VEVENT
DTSTART;TZID=America/Indiana/Indianapolis:20261020T180000
DTEND;TZID=America/Indiana/Indianapolis:20261020T190000
DTSTAMP:20260421T144201
CREATED:20260417T160919Z
LAST-MODIFIED:20260417T160919Z
UID:1578-1792519200-1792522800@indyhealthdistrict.org
SUMMARY:Crown Hill Neighborhood Association Meeting
DESCRIPTION:CAGI 3266 N Meridian 3rd Floor or via Zoom
URL:https://indyhealthdistrict.org/event/crown-hill-neighborhood-association-meeting-6/
LOCATION:CAGI\, 3266 N Meridian St.\, Indianapolis\, IN\, 46208\, United States
CATEGORIES:Neighborhood Association Event
END:VEVENT
END:VCALENDAR