BEGIN:VCALENDAR
VERSION:2.0
PRODID:-//Indy Health District - ECPv6.15.18//NONSGML v1.0//EN
CALSCALE:GREGORIAN
METHOD:PUBLISH
X-ORIGINAL-URL:https://indyhealthdistrict.org
X-WR-CALDESC:Events for Indy Health District
REFRESH-INTERVAL;VALUE=DURATION:PT1H
X-Robots-Tag:noindex
X-PUBLISHED-TTL:PT1H
BEGIN:VTIMEZONE
TZID:America/Indiana/Indianapolis
BEGIN:DAYLIGHT
TZOFFSETFROM:-0500
TZOFFSETTO:-0400
TZNAME:EDT
DTSTART:20250309T070000
END:DAYLIGHT
BEGIN:STANDARD
TZOFFSETFROM:-0400
TZOFFSETTO:-0500
TZNAME:EST
DTSTART:20251102T060000
END:STANDARD
BEGIN:DAYLIGHT
TZOFFSETFROM:-0500
TZOFFSETTO:-0400
TZNAME:EDT
DTSTART:20260308T070000
END:DAYLIGHT
BEGIN:STANDARD
TZOFFSETFROM:-0400
TZOFFSETTO:-0500
TZNAME:EST
DTSTART:20261101T060000
END:STANDARD
BEGIN:DAYLIGHT
TZOFFSETFROM:-0500
TZOFFSETTO:-0400
TZNAME:EDT
DTSTART:20270314T070000
END:DAYLIGHT
BEGIN:STANDARD
TZOFFSETFROM:-0400
TZOFFSETTO:-0500
TZNAME:EST
DTSTART:20271107T060000
END:STANDARD
END:VTIMEZONE
BEGIN:VEVENT
DTSTART;TZID=America/Indiana/Indianapolis:20260703T120000
DTEND;TZID=America/Indiana/Indianapolis:20260703T150000
DTSTAMP:20260419T083251
CREATED:20260417T134055Z
LAST-MODIFIED:20260417T163309Z
UID:1531-1783080000-1783090800@indyhealthdistrict.org
SUMMARY:Floating Farmers Market
DESCRIPTION:Please join us for the Floating Farmers Markets. Enjoy fresh produce from local vendors and free health screenings provided by Indiana University Health. \nWhen:\nFriday\, July 3 – 12 p.m. – 3 p.m. \nWhere:\nCleo’s Bodega\n2432 Doctor M.L.K. Jr St\,\nIndianapolis\, IN 46208 \n  \n  \n 
URL:https://indyhealthdistrict.org/event/floating-farmers-markets-30/
LOCATION:Cleo’s Bodega\, 2432 Doctor M.L.K. Jr St.\, Indianapolis\, 46208\, United States
CATEGORIES:IHD Farmers Market
ORGANIZER;CN="Indy Health District":MAILTO:info@indyhealthdistrict.org
END:VEVENT
BEGIN:VEVENT
DTSTART;TZID=America/Indiana/Indianapolis:20260709T160000
DTEND;TZID=America/Indiana/Indianapolis:20260709T180000
DTSTAMP:20260419T083251
CREATED:20260417T134811Z
LAST-MODIFIED:20260417T163305Z
UID:1533-1783612800-1783620000@indyhealthdistrict.org
SUMMARY:Floating Farmers Market
DESCRIPTION:Please join us for the Floating Farmers Markets. Enjoy fresh produce from local vendors and free health screenings provided by Indiana University Health. \nWhen:\nThursday\, July 9 – 4 p.m. – 6 p.m. \nWhere:\nNorth United Methodist Church\n3808 N Meridian St.\nIndianapolis\, IN 46208 \n  \n  \n 
URL:https://indyhealthdistrict.org/event/floating-farmers-markets-31/
LOCATION:North United Methodist Church\, 3808 N Meridian St.\, Indianapolis\, IN\, 46208\, United States
CATEGORIES:IHD Farmers Market
ORGANIZER;CN="Indy Health District":MAILTO:info@indyhealthdistrict.org
END:VEVENT
BEGIN:VEVENT
DTSTART;TZID=America/Indiana/Indianapolis:20260710T160000
DTEND;TZID=America/Indiana/Indianapolis:20260710T180000
DTSTAMP:20260419T083251
CREATED:20260417T135045Z
LAST-MODIFIED:20260417T163211Z
UID:1534-1783699200-1783706400@indyhealthdistrict.org
SUMMARY:Floating Farmers Market
DESCRIPTION:Please join us for the Floating Farmers Markets. Enjoy fresh produce from local vendors and free health screenings provided by Indiana University Health. \nWhen:\nFriday\, July 10 – 4 p.m. – 6 p.m. \nWhere:\nChildren’s Museum Green Space\n(northeast corner of 32nd & Illinois) \n  \n  \n 
URL:https://indyhealthdistrict.org/event/floating-farmers-markets-32/
LOCATION:Children’s Museum Green Space\, 3201 N Illinois St.\, Indianapolis\, IN\, 46208\, United States
CATEGORIES:IHD Farmers Market
ORGANIZER;CN="Indy Health District":MAILTO:info@indyhealthdistrict.org
END:VEVENT
BEGIN:VEVENT
DTSTART;TZID=America/Indiana/Indianapolis:20260714T180000
DTEND;TZID=America/Indiana/Indianapolis:20260714T190000
DTSTAMP:20260419T083251
CREATED:20260417T135232Z
LAST-MODIFIED:20260417T135232Z
UID:1535-1784052000-1784055600@indyhealthdistrict.org
SUMMARY:Highland Vicinity Neighborhood Association Meeting
DESCRIPTION:
URL:https://indyhealthdistrict.org/event/highland-vicinity-neighborhood-association-meeting-4/
LOCATION:Our Savior Lutheran Church\, 261 W 25th St\, Indianapolis\, IN\, 46208\, United States
CATEGORIES:Neighborhood Association Event
ORGANIZER;CN="Highland Vicinity Neighborhood Association":MAILTO:hvna46208@gmail.com
END:VEVENT
BEGIN:VEVENT
DTSTART;TZID=America/Indiana/Indianapolis:20260715T110000
DTEND;TZID=America/Indiana/Indianapolis:20260715T150000
DTSTAMP:20260419T083251
CREATED:20260417T135541Z
LAST-MODIFIED:20260417T163207Z
UID:1536-1784113200-1784127600@indyhealthdistrict.org
SUMMARY:Floating Farmers Market
DESCRIPTION:Please join us for the Floating Farmers Markets. Enjoy fresh produce from local vendors and free health screenings provided by Indiana University Health. \nWhen:\nWednesday\, July 15 – 11 a.m. – 3 p.m. \nWhere:\nGlick Technology Center Courtyard at Ivy Tech\n2620 N. Meridian Street\nIndianapolis\, IN \n  \n  \n 
URL:https://indyhealthdistrict.org/event/floating-farmers-markets-33/
LOCATION:Glick Technology Center Courtyard at Ivy Tech\, 2620 N. Meridian Street\, Indianapolis\, IN\, 46208\, United States
CATEGORIES:IHD Farmers Market
ORGANIZER;CN="Indy Health District":MAILTO:info@indyhealthdistrict.org
END:VEVENT
BEGIN:VEVENT
DTSTART;TZID=America/Indiana/Indianapolis:20260720T181500
DTEND;TZID=America/Indiana/Indianapolis:20260720T191500
DTSTAMP:20260419T083251
CREATED:20260417T135615Z
LAST-MODIFIED:20260417T135615Z
UID:1537-1784571300-1784574900@indyhealthdistrict.org
SUMMARY:Meridian Highland Neighborhood Association Meeting
DESCRIPTION:
URL:https://indyhealthdistrict.org/event/meridian-highland-neighborhood-association-meeting-4/
LOCATION:2150 N Capitol Ave\, 2150 N Capitol Ave\, Indianapolis\, IN\, United States
CATEGORIES:Neighborhood Association Event
ORGANIZER;CN="Meridian Highland Neighborhood Association":MAILTO:: meridian.highland.na@gmail.com
END:VEVENT
BEGIN:VEVENT
DTSTART;TZID=America/Indiana/Indianapolis:20260721T180000
DTEND;TZID=America/Indiana/Indianapolis:20260721T190000
DTSTAMP:20260419T083251
CREATED:20260417T135741Z
LAST-MODIFIED:20260417T135741Z
UID:1538-1784656800-1784660400@indyhealthdistrict.org
SUMMARY:Crown Hill Neighborhood Association Meeting
DESCRIPTION:CAGI 3266 N Meridian 3rd Floor or via Zoom
URL:https://indyhealthdistrict.org/event/crown-hill-neighborhood-association-meeting-4/
LOCATION:CAGI\, 3266 N Meridian St.\, Indianapolis\, IN\, 46208\, United States
CATEGORIES:Neighborhood Association Event
END:VEVENT
BEGIN:VEVENT
DTSTART;TZID=America/Indiana/Indianapolis:20260723T160000
DTEND;TZID=America/Indiana/Indianapolis:20260723T180000
DTSTAMP:20260419T083251
CREATED:20260417T135820Z
LAST-MODIFIED:20260417T163204Z
UID:1540-1784822400-1784829600@indyhealthdistrict.org
SUMMARY:Floating Farmers Market
DESCRIPTION:Please join us for the Floating Farmers Markets. Enjoy fresh produce from local vendors and free health screenings provided by Indiana University Health. \nWhen:\nThursday\, July 23 – 4 p.m. – 6 p.m. \nWhere:\nNorth United Methodist Church\n3808 N Meridian St.\nIndianapolis\, IN 46208 \n  \n  \n 
URL:https://indyhealthdistrict.org/event/floating-farmers-markets-34/
LOCATION:North United Methodist Church\, 3808 N Meridian St.\, Indianapolis\, IN\, 46208\, United States
CATEGORIES:IHD Farmers Market
ORGANIZER;CN="Indy Health District":MAILTO:info@indyhealthdistrict.org
END:VEVENT
BEGIN:VEVENT
DTSTART;TZID=America/Indiana/Indianapolis:20260724T160000
DTEND;TZID=America/Indiana/Indianapolis:20260724T180000
DTSTAMP:20260419T083251
CREATED:20260417T135911Z
LAST-MODIFIED:20260417T163156Z
UID:1541-1784908800-1784916000@indyhealthdistrict.org
SUMMARY:Floating Farmers Market
DESCRIPTION:Please join us for the Floating Farmers Markets. Enjoy fresh produce from local vendors and free health screenings provided by Indiana University Health. \nWhen:\nFriday\, July 22 – 4 p.m. – 6 p.m. \nWhere:\nCitizens Energy\n2020 N Meridian\nIndianapolis\, IN \n  \n  \n 
URL:https://indyhealthdistrict.org/event/floating-farmers-markets-35/
LOCATION:North United Methodist Church\, 3808 N Meridian St.\, Indianapolis\, IN\, 46208\, United States
CATEGORIES:IHD Farmers Market
ORGANIZER;CN="Indy Health District":MAILTO:info@indyhealthdistrict.org
END:VEVENT
BEGIN:VEVENT
DTSTART;TZID=America/Indiana/Indianapolis:20260725T090000
DTEND;TZID=America/Indiana/Indianapolis:20260725T120000
DTSTAMP:20260419T083251
CREATED:20260417T140025Z
LAST-MODIFIED:20260417T140025Z
UID:1543-1784970000-1784980800@indyhealthdistrict.org
SUMMARY:Ransom Place Neighborhood Clean Up
DESCRIPTION:
URL:https://indyhealthdistrict.org/event/ransom-place-neighborhood-clean-up-3/
LOCATION:9th St. & Camp St.\, 909 Camp St\, Indianapolis\, Indiana\, 46202\, United States
CATEGORIES:Neighborhood Association Event
END:VEVENT
BEGIN:VEVENT
DTSTART;TZID=America/Indiana/Indianapolis:20260725T100000
DTEND;TZID=America/Indiana/Indianapolis:20260725T130000
DTSTAMP:20260419T083251
CREATED:20260417T140124Z
LAST-MODIFIED:20260417T140124Z
UID:1544-1784973600-1784984400@indyhealthdistrict.org
SUMMARY:Back-To-School Block Party + IHD Farmers Market
DESCRIPTION:
URL:https://indyhealthdistrict.org/event/back-to-school-block-party-ihd-farmers-market/
LOCATION:Indianapolis Urban League\, 777 Indiana Ave\, Indianapolis\, IN\, 46202\, United States
CATEGORIES:Community Partner Event,IHD Farmers Market
ORGANIZER;CN="Indy Health District":MAILTO:info@indyhealthdistrict.org
END:VEVENT
BEGIN:VEVENT
DTSTART;TZID=America/Indiana/Indianapolis:20260727T180000
DTEND;TZID=America/Indiana/Indianapolis:20260727T190000
DTSTAMP:20260419T083251
CREATED:20260417T140219Z
LAST-MODIFIED:20260417T140219Z
UID:1545-1785175200-1785178800@indyhealthdistrict.org
SUMMARY:IHD Quality of Life Planning Steering Committee Meeting
DESCRIPTION:
URL:https://indyhealthdistrict.org/event/ihd-quality-of-life-planning-steering-committee-meeting-4/
LOCATION:Mosaic Center\, 1776 N Meridian Street\, Indianapolis\, IN\, 46202\, United States
CATEGORIES:Indy Health District Event
ORGANIZER;CN="Indy Health District":MAILTO:info@indyhealthdistrict.org
END:VEVENT
BEGIN:VEVENT
DTSTART;TZID=America/Indiana/Indianapolis:20260728T093000
DTEND;TZID=America/Indiana/Indianapolis:20260728T113000
DTSTAMP:20260419T083251
CREATED:20260417T133759Z
LAST-MODIFIED:20260417T140507Z
UID:1529-1785231000-1785238200@indyhealthdistrict.org
SUMMARY:Free Legal Services
DESCRIPTION:
URL:https://indyhealthdistrict.org/event/free-legal-services/
LOCATION:Fathers & Families Center\, 2835 N Illinois St.\, Indianapolis\, IN\, 46208\, United States
CATEGORIES:Community Partner Event
END:VEVENT
BEGIN:VEVENT
DTSTART;TZID=America/Indiana/Indianapolis:20260728T170000
DTEND;TZID=America/Indiana/Indianapolis:20260728T190000
DTSTAMP:20260419T083251
CREATED:20260417T140546Z
LAST-MODIFIED:20260417T140546Z
UID:1546-1785258000-1785265200@indyhealthdistrict.org
SUMMARY:Free Legal Clinic
DESCRIPTION:
URL:https://indyhealthdistrict.org/event/free-legal-clinic-5/
LOCATION:Center Township Trustee Office\, 300 E Fall Creek Pkwy N Dr\, Indianapolis\, IN\, 46205\, United States
CATEGORIES:Community Partner Event
END:VEVENT
BEGIN:VEVENT
DTSTART;TZID=America/Indiana/Indianapolis:20260806T160000
DTEND;TZID=America/Indiana/Indianapolis:20260806T180000
DTSTAMP:20260419T083251
CREATED:20260417T143218Z
LAST-MODIFIED:20260417T163152Z
UID:1548-1786032000-1786039200@indyhealthdistrict.org
SUMMARY:Floating Farmers Market
DESCRIPTION:Please join us for the Floating Farmers Markets. Enjoy fresh produce from local vendors and free health screenings provided by Indiana University Health. \nWhen:\nThursday\, August 6 – 4 p.m. – 6 p.m. \nWhere:\nNorth United Methodist Church\n3808 N Meridian St.\nIndianapolis\, IN 46208 \n  \n  \n 
URL:https://indyhealthdistrict.org/event/floating-farmers-markets-36/
LOCATION:North United Methodist Church\, 3808 N Meridian St.\, Indianapolis\, IN\, 46208\, United States
CATEGORIES:IHD Farmers Market
ORGANIZER;CN="Indy Health District":MAILTO:info@indyhealthdistrict.org
END:VEVENT
BEGIN:VEVENT
DTSTART;TZID=America/Indiana/Indianapolis:20260807T120000
DTEND;TZID=America/Indiana/Indianapolis:20260807T150000
DTSTAMP:20260419T083251
CREATED:20260417T143355Z
LAST-MODIFIED:20260417T163146Z
UID:1550-1786104000-1786114800@indyhealthdistrict.org
SUMMARY:Floating Farmers Market
DESCRIPTION:Please join us for the Floating Farmers Markets. Enjoy fresh produce from local vendors and free health screenings provided by Indiana University Health. \nWhen:\nFriday\, August 7 – 12 p.m. – 3 p.m. \nWhere:\nCleo’s Bodega\n2432 Doctor M.L.K. Jr St\,\nIndianapolis\, IN 46208 \n  \n  \n 
URL:https://indyhealthdistrict.org/event/floating-farmers-markets-38/
LOCATION:Cleo’s Bodega\, 2432 Doctor M.L.K. Jr St.\, Indianapolis\, 46208\, United States
CATEGORIES:IHD Farmers Market
ORGANIZER;CN="Indy Health District":MAILTO:info@indyhealthdistrict.org
END:VEVENT
BEGIN:VEVENT
DTSTART;TZID=America/Indiana/Indianapolis:20260811T180000
DTEND;TZID=America/Indiana/Indianapolis:20260811T190000
DTSTAMP:20260419T083251
CREATED:20260417T152157Z
LAST-MODIFIED:20260417T152157Z
UID:1551-1786471200-1786474800@indyhealthdistrict.org
SUMMARY:Highland Vicinity Neighborhood Association Meeting
DESCRIPTION:
URL:https://indyhealthdistrict.org/event/highland-vicinity-neighborhood-association-meeting-5/
LOCATION:Our Savior Lutheran Church\, 261 W 25th St\, Indianapolis\, IN\, 46208\, United States
CATEGORIES:Neighborhood Association Event
ORGANIZER;CN="Highland Vicinity Neighborhood Association":MAILTO:hvna46208@gmail.com
END:VEVENT
BEGIN:VEVENT
DTSTART;TZID=America/Indiana/Indianapolis:20260814T160000
DTEND;TZID=America/Indiana/Indianapolis:20260814T180000
DTSTAMP:20260419T083251
CREATED:20260417T152329Z
LAST-MODIFIED:20260417T163143Z
UID:1552-1786723200-1786730400@indyhealthdistrict.org
SUMMARY:Floating Farmers Market
DESCRIPTION:Please join us for the Floating Farmers Markets. Enjoy fresh produce from local vendors and free health screenings provided by Indiana University Health. \nWhen:\nFriday\, August 14 – 4 p.m. – 6 p.m. \nWhere:\nChildren’s Museum Green Space\n(northeast corner of 32nd & Illinois) \n  \n  \n 
URL:https://indyhealthdistrict.org/event/floating-farmers-markets-39/
LOCATION:Children’s Museum Green Space\, 3201 N Illinois St.\, Indianapolis\, IN\, 46208\, United States
CATEGORIES:IHD Farmers Market
ORGANIZER;CN="Indy Health District":MAILTO:info@indyhealthdistrict.org
END:VEVENT
BEGIN:VEVENT
DTSTART;TZID=America/Indiana/Indianapolis:20260817T181500
DTEND;TZID=America/Indiana/Indianapolis:20260817T191500
DTSTAMP:20260419T083251
CREATED:20260417T152354Z
LAST-MODIFIED:20260417T152354Z
UID:1553-1786990500-1786994100@indyhealthdistrict.org
SUMMARY:Meridian Highland Neighborhood Association Meeting
DESCRIPTION:
URL:https://indyhealthdistrict.org/event/meridian-highland-neighborhood-association-meeting-5/
LOCATION:2150 N Capitol Ave\, 2150 N Capitol Ave\, Indianapolis\, IN\, United States
CATEGORIES:Neighborhood Association Event
ORGANIZER;CN="Meridian Highland Neighborhood Association":MAILTO:: meridian.highland.na@gmail.com
END:VEVENT
BEGIN:VEVENT
DTSTART;TZID=America/Indiana/Indianapolis:20260819T110000
DTEND;TZID=America/Indiana/Indianapolis:20260819T150000
DTSTAMP:20260419T083251
CREATED:20260417T152453Z
LAST-MODIFIED:20260417T163139Z
UID:1554-1787137200-1787151600@indyhealthdistrict.org
SUMMARY:Floating Farmers Market
DESCRIPTION:Please join us for the Floating Farmers Markets. Enjoy fresh produce from local vendors and free health screenings provided by Indiana University Health. \nWhen:\nWednesday\, August 19 – 11 a.m. – 3 p.m. \nWhere:\nGlick Technology Center Courtyard at Ivy Tech\n2620 N. Meridian Street\nIndianapolis\, IN \n  \n  \n 
URL:https://indyhealthdistrict.org/event/floating-farmers-markets-40/
LOCATION:Glick Technology Center Courtyard at Ivy Tech\, 2620 N. Meridian Street\, Indianapolis\, IN\, 46208\, United States
CATEGORIES:IHD Farmers Market
ORGANIZER;CN="Indy Health District":MAILTO:info@indyhealthdistrict.org
END:VEVENT
BEGIN:VEVENT
DTSTART;TZID=America/Indiana/Indianapolis:20260820T160000
DTEND;TZID=America/Indiana/Indianapolis:20260820T180000
DTSTAMP:20260419T083251
CREATED:20260417T152548Z
LAST-MODIFIED:20260417T163137Z
UID:1555-1787241600-1787248800@indyhealthdistrict.org
SUMMARY:Floating Farmers Market
DESCRIPTION:Please join us for the Floating Farmers Markets. Enjoy fresh produce from local vendors and free health screenings provided by Indiana University Health. \nWhen:\nThursday\, August 20 – 4 p.m. – 6 p.m. \nWhere:\nNorth United Methodist Church\n3808 N Meridian St.\nIndianapolis\, IN 46208 \n  \n  \n 
URL:https://indyhealthdistrict.org/event/floating-farmers-markets-41/
LOCATION:North United Methodist Church\, 3808 N Meridian St.\, Indianapolis\, IN\, 46208\, United States
CATEGORIES:IHD Farmers Market
ORGANIZER;CN="Indy Health District":MAILTO:info@indyhealthdistrict.org
END:VEVENT
BEGIN:VEVENT
DTSTART;TZID=America/Indiana/Indianapolis:20260820T170000
DTEND;TZID=America/Indiana/Indianapolis:20260820T190000
DTSTAMP:20260419T083251
CREATED:20260417T152653Z
LAST-MODIFIED:20260417T152653Z
UID:1556-1787245200-1787252400@indyhealthdistrict.org
SUMMARY:Free Legal Clinic
DESCRIPTION:
URL:https://indyhealthdistrict.org/event/free-legal-clinic-7/
LOCATION:CAGI\, 3266 N Meridian St.\, Indianapolis\, IN\, 46208\, United States
CATEGORIES:Community Partner Event
END:VEVENT
BEGIN:VEVENT
DTSTART;TZID=America/Indiana/Indianapolis:20260822T090000
DTEND;TZID=America/Indiana/Indianapolis:20260822T130000
DTSTAMP:20260419T083251
CREATED:20260417T152740Z
LAST-MODIFIED:20260417T152740Z
UID:1557-1787389200-1787403600@indyhealthdistrict.org
SUMMARY:Entrepreneur Small Business + IHD Farmers Market
DESCRIPTION:
URL:https://indyhealthdistrict.org/event/entrepreneur-small-business-ihd-farmers-market/
LOCATION:Indianapolis Urban League\, 777 Indiana Ave\, Indianapolis\, IN\, 46202\, United States
CATEGORIES:Community Partner Event,IHD Farmers Market
ORGANIZER;CN="Indy Health District":MAILTO:info@indyhealthdistrict.org
END:VEVENT
BEGIN:VEVENT
DTSTART;TZID=America/Indiana/Indianapolis:20260824T180000
DTEND;TZID=America/Indiana/Indianapolis:20260824T190000
DTSTAMP:20260419T083251
CREATED:20260417T152810Z
LAST-MODIFIED:20260417T152810Z
UID:1558-1787594400-1787598000@indyhealthdistrict.org
SUMMARY:IHD Quality of Life Planning Steering Committee Meeting
DESCRIPTION:
URL:https://indyhealthdistrict.org/event/ihd-quality-of-life-planning-steering-committee-meeting-5/
LOCATION:Mosaic Center\, 1776 N Meridian Street\, Indianapolis\, IN\, 46202\, United States
CATEGORIES:Indy Health District Event
ORGANIZER;CN="Indy Health District":MAILTO:info@indyhealthdistrict.org
END:VEVENT
BEGIN:VEVENT
DTSTART;TZID=America/Indiana/Indianapolis:20260827T170000
DTEND;TZID=America/Indiana/Indianapolis:20260827T190000
DTSTAMP:20260419T083251
CREATED:20260417T152855Z
LAST-MODIFIED:20260417T152855Z
UID:1559-1787850000-1787857200@indyhealthdistrict.org
SUMMARY:Free Legal Clinic
DESCRIPTION:
URL:https://indyhealthdistrict.org/event/free-legal-clinic-8/
LOCATION:Center Township Trustee Office\, 300 E Fall Creek Pkwy N Dr\, Indianapolis\, IN\, 46205\, United States
CATEGORIES:Community Partner Event
END:VEVENT
BEGIN:VEVENT
DTSTART;TZID=America/Indiana/Indianapolis:20260828T160000
DTEND;TZID=America/Indiana/Indianapolis:20260828T180000
DTSTAMP:20260419T083251
CREATED:20260417T143309Z
LAST-MODIFIED:20260417T163149Z
UID:1549-1787932800-1787940000@indyhealthdistrict.org
SUMMARY:Floating Farmers Market
DESCRIPTION:Please join us for the Floating Farmers Markets. Enjoy fresh produce from local vendors and free health screenings provided by Indiana University Health. \nWhen:\nFriday\, August 28 – 4 p.m. – 6 p.m. \nWhere:\nCitizens Energy\n2020 N Meridian\nIndianapolis\, IN \n  \n  \n 
URL:https://indyhealthdistrict.org/event/floating-farmers-markets-37/
LOCATION:North United Methodist Church\, 3808 N Meridian St.\, Indianapolis\, IN\, 46208\, United States
CATEGORIES:IHD Farmers Market
ORGANIZER;CN="Indy Health District":MAILTO:info@indyhealthdistrict.org
END:VEVENT
BEGIN:VEVENT
DTSTART;TZID=America/Indiana/Indianapolis:20260903T160000
DTEND;TZID=America/Indiana/Indianapolis:20260903T180000
DTSTAMP:20260419T083251
CREATED:20260417T154620Z
LAST-MODIFIED:20260417T163134Z
UID:1560-1788451200-1788458400@indyhealthdistrict.org
SUMMARY:Floating Farmers Market
DESCRIPTION:Please join us for the Floating Farmers Markets. Enjoy fresh produce from local vendors and free health screenings provided by Indiana University Health. \nWhen:\nThursday\, September 3 – 4 p.m. – 6 p.m. \nWhere:\nNorth United Methodist Church\n3808 N Meridian St.\nIndianapolis\, IN 46208 \n  \n  \n 
URL:https://indyhealthdistrict.org/event/floating-farmers-markets-42/
LOCATION:North United Methodist Church\, 3808 N Meridian St.\, Indianapolis\, IN\, 46208\, United States
CATEGORIES:IHD Farmers Market
ORGANIZER;CN="Indy Health District":MAILTO:info@indyhealthdistrict.org
END:VEVENT
BEGIN:VEVENT
DTSTART;TZID=America/Indiana/Indianapolis:20260904T120000
DTEND;TZID=America/Indiana/Indianapolis:20260904T150000
DTSTAMP:20260419T083251
CREATED:20260417T154857Z
LAST-MODIFIED:20260417T163131Z
UID:1561-1788523200-1788534000@indyhealthdistrict.org
SUMMARY:Floating Farmers Market
DESCRIPTION:Please join us for the Floating Farmers Markets. Enjoy fresh produce from local vendors and free health screenings provided by Indiana University Health. \nWhen:\nFriday\, September 4 – 12 p.m. – 3 p.m. \nWhere:\nCleo’s Bodega\n2432 Doctor M.L.K. Jr St\,\nIndianapolis\, IN 46208 \n  \n  \n 
URL:https://indyhealthdistrict.org/event/floating-farmers-markets-43/
LOCATION:Cleo’s Bodega\, 2432 Doctor M.L.K. Jr St.\, Indianapolis\, 46208\, United States
CATEGORIES:IHD Farmers Market
ORGANIZER;CN="Indy Health District":MAILTO:info@indyhealthdistrict.org
END:VEVENT
BEGIN:VEVENT
DTSTART;TZID=America/Indiana/Indianapolis:20260908T180000
DTEND;TZID=America/Indiana/Indianapolis:20260908T190000
DTSTAMP:20260419T083251
CREATED:20260417T155046Z
LAST-MODIFIED:20260417T155046Z
UID:1562-1788890400-1788894000@indyhealthdistrict.org
SUMMARY:Highland Vicinity Neighborhood Association Meeting
DESCRIPTION:
URL:https://indyhealthdistrict.org/event/highland-vicinity-neighborhood-association-meeting-6/
LOCATION:Our Savior Lutheran Church\, 261 W 25th St\, Indianapolis\, IN\, 46208\, United States
CATEGORIES:Neighborhood Association Event
ORGANIZER;CN="Highland Vicinity Neighborhood Association":MAILTO:hvna46208@gmail.com
END:VEVENT
BEGIN:VEVENT
DTSTART;TZID=America/Indiana/Indianapolis:20260911T160000
DTEND;TZID=America/Indiana/Indianapolis:20260911T180000
DTSTAMP:20260419T083251
CREATED:20260417T155132Z
LAST-MODIFIED:20260417T163128Z
UID:1563-1789142400-1789149600@indyhealthdistrict.org
SUMMARY:Floating Farmers Market
DESCRIPTION:Please join us for the Floating Farmers Markets. Enjoy fresh produce from local vendors and free health screenings provided by Indiana University Health. \nWhen:\nFriday\, September 11 – 4 p.m. – 6 p.m. \nWhere:\nChildren’s Museum Green Space\n(northeast corner of 32nd & Illinois) \n  \n  \n 
URL:https://indyhealthdistrict.org/event/floating-farmers-markets-44/
LOCATION:Children’s Museum Green Space\, 3201 N Illinois St.\, Indianapolis\, IN\, 46208\, United States
CATEGORIES:IHD Farmers Market
ORGANIZER;CN="Indy Health District":MAILTO:info@indyhealthdistrict.org
END:VEVENT
END:VCALENDAR